BEGIN:VCALENDAR
VERSION:2.0
PRODID:-//Westside Middle School, Frayser Community Schools - ECPv6.15.20//NONSGML v1.0//EN
CALSCALE:GREGORIAN
METHOD:PUBLISH
X-WR-CALNAME:Westside Middle School, Frayser Community Schools
X-ORIGINAL-URL:https://fraysercs.org
X-WR-CALDESC:Events for Westside Middle School, Frayser Community Schools
REFRESH-INTERVAL;VALUE=DURATION:PT1H
X-Robots-Tag:noindex
X-PUBLISHED-TTL:PT1H
BEGIN:VTIMEZONE
TZID:UTC
BEGIN:STANDARD
TZOFFSETFROM:+0000
TZOFFSETTO:+0000
TZNAME:UTC
DTSTART:20230101T000000
END:STANDARD
END:VTIMEZONE
BEGIN:VEVENT
DTSTART;TZID=UTC:20250411T000000
DTEND;TZID=UTC:20250411T000000
DTSTAMP:20260421T174207
CREATED:20241015T192421Z
LAST-MODIFIED:20241015T192421Z
UID:8107-1744329600-1744329600@fraysercs.org
SUMMARY:TCAP Pep Rally
DESCRIPTION:
URL:https://fraysercs.org/event/tcap-pep-rally/
LOCATION:Westside Middle School\, 3389 Dawn Dr.\, Memphis\, Tennessee\, 38127
CATEGORIES:School Gatherings,Testing
END:VEVENT
BEGIN:VEVENT
DTSTART;TZID=UTC:20250319T000000
DTEND;TZID=UTC:20250319T000000
DTSTAMP:20260421T174207
CREATED:20241015T192302Z
LAST-MODIFIED:20241015T192302Z
UID:8103-1742342400-1742342400@fraysercs.org
SUMMARY:ACES Lunch & Learn Series
DESCRIPTION:
URL:https://fraysercs.org/event/aces-lunch-learn-series/
LOCATION:Westside Middle School\, 3389 Dawn Dr.\, Memphis\, Tennessee\, 38127
CATEGORIES:School Gatherings,Special Events
END:VEVENT
BEGIN:VEVENT
DTSTART;TZID=UTC:20250307T000000
DTEND;TZID=UTC:20250307T000000
DTSTAMP:20260421T174207
CREATED:20241015T192050Z
LAST-MODIFIED:20241015T192050Z
UID:8099-1741305600-1741305600@fraysercs.org
SUMMARY:Lucky Charm Bingo Night
DESCRIPTION:
URL:https://fraysercs.org/event/lucky-charm-bingo-night/
LOCATION:Westside Middle School\, 3389 Dawn Dr.\, Memphis\, Tennessee\, 38127
CATEGORIES:School Gatherings
END:VEVENT
BEGIN:VEVENT
DTSTART;VALUE=DATE:20250220
DTEND;VALUE=DATE:20250221
DTSTAMP:20260421T174207
CREATED:20241015T191901Z
LAST-MODIFIED:20241015T191944Z
UID:8095-1740009600-1740095999@fraysercs.org
SUMMARY:Black History Program
DESCRIPTION:
URL:https://fraysercs.org/event/black-history-program/
LOCATION:Westside Middle School\, 3389 Dawn Dr.\, Memphis\, Tennessee\, 38127
CATEGORIES:School Gatherings,Special Events
END:VEVENT
BEGIN:VEVENT
DTSTART;TZID=UTC:20241015T000000
DTEND;TZID=UTC:20241015T000000
DTSTAMP:20260421T174207
CREATED:20241015T192010Z
LAST-MODIFIED:20241015T192010Z
UID:8097-1728950400-1728950400@fraysercs.org
SUMMARY:Literacy Night
DESCRIPTION:
URL:https://fraysercs.org/event/literacy-night/
LOCATION:Westside Middle School\, 3389 Dawn Dr.\, Memphis\, Tennessee\, 38127
CATEGORIES:School Gatherings
END:VEVENT
END:VCALENDAR